BEGIN:VCALENDAR
VERSION:2.0
PRODID:-//Harmonie St Cecilia - ECPv6.15.17//NONSGML v1.0//EN
CALSCALE:GREGORIAN
METHOD:PUBLISH
X-WR-CALNAME:Harmonie St Cecilia
X-ORIGINAL-URL:https://www.st-cecilia-schijndel.nl
X-WR-CALDESC:Evenementen voor Harmonie St Cecilia
REFRESH-INTERVAL;VALUE=DURATION:PT1H
X-Robots-Tag:noindex
X-PUBLISHED-TTL:PT1H
BEGIN:VTIMEZONE
TZID:Europe/Paris
BEGIN:DAYLIGHT
TZOFFSETFROM:+0100
TZOFFSETTO:+0200
TZNAME:CEST
DTSTART:20250330T010000
END:DAYLIGHT
BEGIN:STANDARD
TZOFFSETFROM:+0200
TZOFFSETTO:+0100
TZNAME:CET
DTSTART:20251026T010000
END:STANDARD
BEGIN:DAYLIGHT
TZOFFSETFROM:+0100
TZOFFSETTO:+0200
TZNAME:CEST
DTSTART:20260329T010000
END:DAYLIGHT
BEGIN:STANDARD
TZOFFSETFROM:+0200
TZOFFSETTO:+0100
TZNAME:CET
DTSTART:20261025T010000
END:STANDARD
BEGIN:DAYLIGHT
TZOFFSETFROM:+0100
TZOFFSETTO:+0200
TZNAME:CEST
DTSTART:20270328T010000
END:DAYLIGHT
BEGIN:STANDARD
TZOFFSETFROM:+0200
TZOFFSETTO:+0100
TZNAME:CET
DTSTART:20271031T010000
END:STANDARD
END:VTIMEZONE
BEGIN:VEVENT
DTSTART;TZID=Europe/Paris:20260103T000000
DTEND;TZID=Europe/Paris:20260103T000000
DTSTAMP:20260420T222442
CREATED:20250707T192256Z
LAST-MODIFIED:20250707T192256Z
UID:16614-1767398400-1767398400@www.st-cecilia-schijndel.nl
SUMMARY:Nieuwjaarsconcert 2026
DESCRIPTION:Het opstap orkest en opleidingsconcert Prima Vista verzorgen het Nieuwjaarsconcert.
URL:https://www.st-cecilia-schijndel.nl/event/nieuwjaarsconcert-2026/
LOCATION:Pleinzaal Spectrum Schijndel\, Steeg 9\, Schijndel\, 5482 WN\, Netherlands
ORGANIZER;CN="Kon. Harmonie St- Cecilia Schijndel":MAILTO:secretariaat@st-cecilia-schijndel.nl
END:VEVENT
END:VCALENDAR