BEGIN:VCALENDAR
VERSION:2.0
PRODID:-//Harmonie St Cecilia - ECPv6.15.17//NONSGML v1.0//EN
CALSCALE:GREGORIAN
METHOD:PUBLISH
X-WR-CALNAME:Harmonie St Cecilia
X-ORIGINAL-URL:https://www.st-cecilia-schijndel.nl
X-WR-CALDESC:Evenementen voor Harmonie St Cecilia
REFRESH-INTERVAL;VALUE=DURATION:PT1H
X-Robots-Tag:noindex
X-PUBLISHED-TTL:PT1H
BEGIN:VTIMEZONE
TZID:Europe/Paris
BEGIN:DAYLIGHT
TZOFFSETFROM:+0100
TZOFFSETTO:+0200
TZNAME:CEST
DTSTART:20240331T010000
END:DAYLIGHT
BEGIN:STANDARD
TZOFFSETFROM:+0200
TZOFFSETTO:+0100
TZNAME:CET
DTSTART:20241027T010000
END:STANDARD
BEGIN:DAYLIGHT
TZOFFSETFROM:+0100
TZOFFSETTO:+0200
TZNAME:CEST
DTSTART:20250330T010000
END:DAYLIGHT
BEGIN:STANDARD
TZOFFSETFROM:+0200
TZOFFSETTO:+0100
TZNAME:CET
DTSTART:20251026T010000
END:STANDARD
BEGIN:DAYLIGHT
TZOFFSETFROM:+0100
TZOFFSETTO:+0200
TZNAME:CEST
DTSTART:20260329T010000
END:DAYLIGHT
BEGIN:STANDARD
TZOFFSETFROM:+0200
TZOFFSETTO:+0100
TZNAME:CET
DTSTART:20261025T010000
END:STANDARD
BEGIN:DAYLIGHT
TZOFFSETFROM:+0100
TZOFFSETTO:+0200
TZNAME:CEST
DTSTART:20270328T010000
END:DAYLIGHT
BEGIN:STANDARD
TZOFFSETFROM:+0200
TZOFFSETTO:+0100
TZNAME:CET
DTSTART:20271031T010000
END:STANDARD
END:VTIMEZONE
BEGIN:VEVENT
DTSTART;TZID=Europe/Paris:20251115T173000
DTEND;TZID=Europe/Paris:20251115T183000
DTSTAMP:20260421T070937
CREATED:20250707T191955Z
LAST-MODIFIED:20251216T134000Z
UID:16610-1763227800-1763231400@www.st-cecilia-schijndel.nl
SUMMARY:Sinterklaasintocht
DESCRIPTION:
URL:https://www.st-cecilia-schijndel.nl/event/sinterklaasintocht/
LOCATION:Van de Dioscuren tot op de markt.
END:VEVENT
BEGIN:VEVENT
DTSTART;TZID=Europe/Paris:20251129T200000
DTEND;TZID=Europe/Paris:20251129T213000
DTSTAMP:20260421T070937
CREATED:20250118T131528Z
LAST-MODIFIED:20251113T152933Z
UID:16527-1764446400-1764451800@www.st-cecilia-schijndel.nl
SUMMARY:Top Café 2000 - Concert Drumfanfare
DESCRIPTION:Op zaterdag 29 november organiseert de Drumfanfare St. Cecilia Schijndel het gezelligste muziekcafé van het jaar: Top Café 2000!In ’t Spectrum Schijndel nemen we je mee langs de mooiste hits uit de lijst van je leven. Van tijdloze klassiekers tot herkenbare meezingers – de perfecte mix om samen te genieten\, mee te zingen en herinneringen op te halen. Voor het concert zijn helaas geen tickets meer te koop\, het concert is uitverkocht.
URL:https://www.st-cecilia-schijndel.nl/event/top-cafe-2000/
LOCATION:Pleinzaal Spectrum Schijndel\, Steeg 9\, Schijndel\, 5482 WN\, Netherlands
ORGANIZER;CN="Kon. Harmonie St- Cecilia Schijndel":MAILTO:secretariaat@st-cecilia-schijndel.nl
END:VEVENT
BEGIN:VEVENT
DTSTART;TZID=Europe/Paris:20251220T200000
DTEND;TZID=Europe/Paris:20251220T213000
DTSTAMP:20260421T070937
CREATED:20250118T131617Z
LAST-MODIFIED:20250707T192407Z
UID:16529-1766260800-1766266200@www.st-cecilia-schijndel.nl
SUMMARY:Kerstconcert
DESCRIPTION:Da Capo brengt je alvast in kerstige sferen met muziek voor jong en oud.
URL:https://www.st-cecilia-schijndel.nl/event/kerstconcert/
LOCATION:SCC De Vink\, Hoevenbraaksestraat 28\, Schijndel\, 5482 BD
ORGANIZER;CN="Kon. Harmonie St- Cecilia Schijndel":MAILTO:secretariaat@st-cecilia-schijndel.nl
END:VEVENT
BEGIN:VEVENT
DTSTART;TZID=Europe/Paris:20260103T000000
DTEND;TZID=Europe/Paris:20260103T000000
DTSTAMP:20260421T070937
CREATED:20250707T192256Z
LAST-MODIFIED:20250707T192256Z
UID:16614-1767398400-1767398400@www.st-cecilia-schijndel.nl
SUMMARY:Nieuwjaarsconcert 2026
DESCRIPTION:Het opstap orkest en opleidingsconcert Prima Vista verzorgen het Nieuwjaarsconcert.
URL:https://www.st-cecilia-schijndel.nl/event/nieuwjaarsconcert-2026/
LOCATION:Pleinzaal Spectrum Schijndel\, Steeg 9\, Schijndel\, 5482 WN\, Netherlands
ORGANIZER;CN="Kon. Harmonie St- Cecilia Schijndel":MAILTO:secretariaat@st-cecilia-schijndel.nl
END:VEVENT
BEGIN:VEVENT
DTSTART;TZID=Europe/Paris:20260313T200000
DTEND;TZID=Europe/Paris:20260313T220000
DTSTAMP:20260421T070937
CREATED:20260226T130522Z
LAST-MODIFIED:20260226T130750Z
UID:16880-1773432000-1773439200@www.st-cecilia-schijndel.nl
SUMMARY:Lentekriebels
DESCRIPTION:Mooi lenteconcert met de Drumfanfare van Kon. Harmonie Sint Cecilia en Big Band Fanjazztic\, beide uit Schijndel. \nKlik hier voor meer informatie en tickets \n 
URL:https://www.st-cecilia-schijndel.nl/event/lentekriebels/
LOCATION:Pleinzaal Spectrum Schijndel\, Steeg 9\, Schijndel\, 5482 WN\, Netherlands
ATTACH;FMTTYPE=image/jpeg:https://www.st-cecilia-schijndel.nl/wp-content/uploads/2026/02/Logo-Lentekriebels-geen-onder-en-boven-wit.jpg
ORGANIZER;CN="Kon. Harmonie St- Cecilia Schijndel":MAILTO:secretariaat@st-cecilia-schijndel.nl
END:VEVENT
END:VCALENDAR