BEGIN:VCALENDAR
VERSION:2.0
PRODID:-//Harmonie St Cecilia - ECPv6.15.17//NONSGML v1.0//EN
CALSCALE:GREGORIAN
METHOD:PUBLISH
X-ORIGINAL-URL:https://www.st-cecilia-schijndel.nl
X-WR-CALDESC:Evenementen voor Harmonie St Cecilia
REFRESH-INTERVAL;VALUE=DURATION:PT1H
X-Robots-Tag:noindex
X-PUBLISHED-TTL:PT1H
BEGIN:VTIMEZONE
TZID:Europe/Paris
BEGIN:DAYLIGHT
TZOFFSETFROM:+0100
TZOFFSETTO:+0200
TZNAME:CEST
DTSTART:20240331T010000
END:DAYLIGHT
BEGIN:STANDARD
TZOFFSETFROM:+0200
TZOFFSETTO:+0100
TZNAME:CET
DTSTART:20241027T010000
END:STANDARD
BEGIN:DAYLIGHT
TZOFFSETFROM:+0100
TZOFFSETTO:+0200
TZNAME:CEST
DTSTART:20250330T010000
END:DAYLIGHT
BEGIN:STANDARD
TZOFFSETFROM:+0200
TZOFFSETTO:+0100
TZNAME:CET
DTSTART:20251026T010000
END:STANDARD
BEGIN:DAYLIGHT
TZOFFSETFROM:+0100
TZOFFSETTO:+0200
TZNAME:CEST
DTSTART:20260329T010000
END:DAYLIGHT
BEGIN:STANDARD
TZOFFSETFROM:+0200
TZOFFSETTO:+0100
TZNAME:CET
DTSTART:20261025T010000
END:STANDARD
END:VTIMEZONE
BEGIN:VEVENT
DTSTART;TZID=Europe/Paris:20251025T190000
DTEND;TZID=Europe/Paris:20251025T210000
DTSTAMP:20260421T042933
CREATED:20250118T131355Z
LAST-MODIFIED:20250707T192559Z
UID:16523-1761418800-1761426000@www.st-cecilia-schijndel.nl
SUMMARY:Halloweenconcert
DESCRIPTION:Onze jeugdleden zullen je een avond lang laten griezelen én genieten van bijpassende muziek. In samenwerking met opleidingsorkest Servaes. \n 
URL:https://www.st-cecilia-schijndel.nl/event/halloweenconcert/
LOCATION:Het Gasthuis\, Lidwinahof 70\, Schijndel\, 5481 HL
ORGANIZER;CN="Kon. Harmonie St- Cecilia Schijndel":MAILTO:secretariaat@st-cecilia-schijndel.nl
END:VEVENT
END:VCALENDAR